BEGIN:VCALENDAR
VERSION:2.0
PRODID:-//West Sussex Music - ECPv6.15.20//NONSGML v1.0//EN
CALSCALE:GREGORIAN
METHOD:PUBLISH
X-WR-CALNAME:West Sussex Music
X-ORIGINAL-URL:https://www.westsussexmusic.co.uk
X-WR-CALDESC:Events for West Sussex Music
REFRESH-INTERVAL;VALUE=DURATION:PT1H
X-Robots-Tag:noindex
X-PUBLISHED-TTL:PT1H
BEGIN:VTIMEZONE
TZID:Europe/London
BEGIN:DAYLIGHT
TZOFFSETFROM:+0000
TZOFFSETTO:+0100
TZNAME:BST
DTSTART:20240331T010000
END:DAYLIGHT
BEGIN:STANDARD
TZOFFSETFROM:+0100
TZOFFSETTO:+0000
TZNAME:GMT
DTSTART:20241027T010000
END:STANDARD
BEGIN:DAYLIGHT
TZOFFSETFROM:+0000
TZOFFSETTO:+0100
TZNAME:BST
DTSTART:20250330T010000
END:DAYLIGHT
BEGIN:STANDARD
TZOFFSETFROM:+0100
TZOFFSETTO:+0000
TZNAME:GMT
DTSTART:20251026T010000
END:STANDARD
BEGIN:DAYLIGHT
TZOFFSETFROM:+0000
TZOFFSETTO:+0100
TZNAME:BST
DTSTART:20260329T010000
END:DAYLIGHT
BEGIN:STANDARD
TZOFFSETFROM:+0100
TZOFFSETTO:+0000
TZNAME:GMT
DTSTART:20261025T010000
END:STANDARD
END:VTIMEZONE
BEGIN:VEVENT
DTSTART;TZID=Europe/London:20251129T123000
DTEND;TZID=Europe/London:20251129T133000
DTSTAMP:20260421T232838
CREATED:20250916T083550Z
LAST-MODIFIED:20250916T084709Z
UID:10000123-1764419400-1764423000@www.westsussexmusic.co.uk
SUMMARY:Workshop - Orchestras Inc. autumn term (Horsham)
DESCRIPTION:Orchestras Inc is our incredible SEND ensemble and is open to children and young people with additional needs\, including those attending special schools\, those at mainstream schools or colleges with additional needs and those who are home schooled. \nThe group is open to young people from anywhere with a parent or carer for support. No previous experience required but activities are suited to young people in key stages 2 and above (up to 25yrs). \nCome and join us to explore music through a range of instruments in a fun and creative way\, there are two locations – Horsham & Worthing. \nHorsham Music Centre – Saturdays 12.30 – 13.30\nMillais School\, Depot Road\, Horsham RH13 5HR \n\nSaturday 8 November\nSaturday 15 November\nSaturday 22 November\nSaturday 29 November
URL:https://www.westsussexmusic.co.uk/event/orchestras-inc-autumn-term/2025-11-29/
LOCATION:Horsham Music Centre\, Millais School\, Depot Road\, Horsham\, RH13 5HR
ATTACH;FMTTYPE=image/jpeg:https://www.westsussexmusic.co.uk/wp-content/uploads/2025/02/Orchestras-Inc-8-1.jpg
GEO:51.0639222;-0.3072098
X-APPLE-STRUCTURED-LOCATION;VALUE=URI;X-ADDRESS=Horsham Music Centre Millais School Depot Road Horsham RH13 5HR;X-APPLE-RADIUS=500;X-TITLE=Millais School\, Depot Road:geo:-0.3072098,51.0639222
END:VEVENT
BEGIN:VEVENT
DTSTART;TZID=Europe/London:20251129T111500
DTEND;TZID=Europe/London:20251129T123000
DTSTAMP:20260421T232838
CREATED:20251022T142411Z
LAST-MODIFIED:20251209T152406Z
UID:10000133-1764414900-1764419400@www.westsussexmusic.co.uk
SUMMARY:Concert - Presentations Winter 2025 - Horsham Music Centre
DESCRIPTION:A fantastic opportunity for some of our music centre ensembles to show what they’ve been working on this term to family and friends. \nThere will be TWO presentations. \nThe 09:30 presentation will feature the following groups: \n\nHorsham Junior Wind Orchestra\nWest Sussex Training Wind Orchestra\nWest Sussex Training String Orchestra\n\nThe 11:15 presentation will feature the following groups: \n\nDrum Lab\nYoung Voices\n\nTickets for our Horsham Presentation 1 & 2 are available here. They will be scanned at the door\, so please be sure to download and bring your tickets with you on the day. \nThese are informal Music Centre concerts so tickets are free\, but there will be collection buckets at the door for voluntary donations.
URL:https://www.westsussexmusic.co.uk/event/concert-presentations-winter-2025-horsham-music-centre-2025-11-29/
LOCATION:Horsham Music Centre\, Millais School\, Depot Road\, Horsham\, RH13 5HR
CATEGORIES:Concerts
GEO:51.0639222;-0.3072098
X-APPLE-STRUCTURED-LOCATION;VALUE=URI;X-ADDRESS=Horsham Music Centre Millais School Depot Road Horsham RH13 5HR;X-APPLE-RADIUS=500;X-TITLE=Millais School\, Depot Road:geo:-0.3072098,51.0639222
END:VEVENT
BEGIN:VEVENT
DTSTART;TZID=Europe/London:20251129T093000
DTEND;TZID=Europe/London:20251129T103000
DTSTAMP:20260421T232838
CREATED:20251022T142411Z
LAST-MODIFIED:20251209T152419Z
UID:10000132-1764408600-1764412200@www.westsussexmusic.co.uk
SUMMARY:Concert - Presentations Winter 2025 - Horsham Music Centre
DESCRIPTION:A fantastic opportunity for some of our music centre ensembles to show what they’ve been working on this term to family and friends. \nThere will be TWO presentations. \nThe 09:30 presentation will feature the following groups: \n\nHorsham Junior Wind Orchestra\nWest Sussex Training Wind Orchestra\nWest Sussex Training String Orchestra\n\nThe 11:15 presentation will feature the following groups: \n\nDrum Lab\nYoung Voices\n\nTickets for our Horsham Presentation 1 & 2 are available here. They will be scanned at the door\, so please be sure to download and bring your tickets with you on the day. \nThese are informal Music Centre concerts so tickets are free\, but there will be collection buckets at the door for voluntary donations.
URL:https://www.westsussexmusic.co.uk/event/concert-presentations-winter-2025-horsham-music-centre/
LOCATION:Horsham Music Centre\, Millais School\, Depot Road\, Horsham\, RH13 5HR
CATEGORIES:Concerts
GEO:51.0639222;-0.3072098
X-APPLE-STRUCTURED-LOCATION;VALUE=URI;X-ADDRESS=Horsham Music Centre Millais School Depot Road Horsham RH13 5HR;X-APPLE-RADIUS=500;X-TITLE=Millais School\, Depot Road:geo:-0.3072098,51.0639222
END:VEVENT
BEGIN:VEVENT
DTSTART;TZID=Europe/London:20251127T183000
DTEND;TZID=Europe/London:20251127T200000
DTSTAMP:20260421T232838
CREATED:20251111T110716Z
LAST-MODIFIED:20251210T122641Z
UID:10000134-1764268200-1764273600@www.westsussexmusic.co.uk
SUMMARY:Concert - Rock Band Showcase
DESCRIPTION:Get ready for an evening of live music as West Sussex Music presents its Rock Band Showcase! \nTalented young musicians aged 8–16 will take to the stage at The Factory Live\, Worthing\, for a night packed with energy\, creativity\, and rock attitude. \nJoin us on Thursday\, 27 November 2025 — doors open at 6:30 PM\, with the show starting at 7:00 PM. \nCome and celebrate the next generation of rock stars in this unforgettable showcase of local talent!
URL:https://www.westsussexmusic.co.uk/event/concert-rock-band-showcase/
LOCATION:The Factory Live\, Unit 9A\, Ivy Arch Rd\, Worthing\, BN14 8BX
CATEGORIES:Concerts
ATTACH;FMTTYPE=image/jpeg:https://www.westsussexmusic.co.uk/wp-content/uploads/2025/09/Guitar-Players-PIAB-Horsham-1-e1758102362953.jpg
GEO:50.8190957;-0.3717208
X-APPLE-STRUCTURED-LOCATION;VALUE=URI;X-ADDRESS=The Factory Live Unit 9A Ivy Arch Rd Worthing BN14 8BX;X-APPLE-RADIUS=500;X-TITLE=Unit 9A\, Ivy Arch Rd:geo:-0.3717208,50.8190957
END:VEVENT
BEGIN:VEVENT
DTSTART;TZID=Europe/London:20251122T123000
DTEND;TZID=Europe/London:20251122T133000
DTSTAMP:20260421T232838
CREATED:20250916T083550Z
LAST-MODIFIED:20250916T084709Z
UID:10000122-1763814600-1763818200@www.westsussexmusic.co.uk
SUMMARY:Workshop - Orchestras Inc. autumn term (Horsham)
DESCRIPTION:Orchestras Inc is our incredible SEND ensemble and is open to children and young people with additional needs\, including those attending special schools\, those at mainstream schools or colleges with additional needs and those who are home schooled. \nThe group is open to young people from anywhere with a parent or carer for support. No previous experience required but activities are suited to young people in key stages 2 and above (up to 25yrs). \nCome and join us to explore music through a range of instruments in a fun and creative way\, there are two locations – Horsham & Worthing. \nHorsham Music Centre – Saturdays 12.30 – 13.30\nMillais School\, Depot Road\, Horsham RH13 5HR \n\nSaturday 8 November\nSaturday 15 November\nSaturday 22 November\nSaturday 29 November
URL:https://www.westsussexmusic.co.uk/event/orchestras-inc-autumn-term/2025-11-22/
LOCATION:Horsham Music Centre\, Millais School\, Depot Road\, Horsham\, RH13 5HR
ATTACH;FMTTYPE=image/jpeg:https://www.westsussexmusic.co.uk/wp-content/uploads/2025/02/Orchestras-Inc-8-1.jpg
GEO:51.0639222;-0.3072098
X-APPLE-STRUCTURED-LOCATION;VALUE=URI;X-ADDRESS=Horsham Music Centre Millais School Depot Road Horsham RH13 5HR;X-APPLE-RADIUS=500;X-TITLE=Millais School\, Depot Road:geo:-0.3072098,51.0639222
END:VEVENT
BEGIN:VEVENT
DTSTART;TZID=Europe/London:20251115T123000
DTEND;TZID=Europe/London:20251115T133000
DTSTAMP:20260421T232838
CREATED:20250916T083550Z
LAST-MODIFIED:20250916T084709Z
UID:10000121-1763209800-1763213400@www.westsussexmusic.co.uk
SUMMARY:Workshop - Orchestras Inc. autumn term (Horsham)
DESCRIPTION:Orchestras Inc is our incredible SEND ensemble and is open to children and young people with additional needs\, including those attending special schools\, those at mainstream schools or colleges with additional needs and those who are home schooled. \nThe group is open to young people from anywhere with a parent or carer for support. No previous experience required but activities are suited to young people in key stages 2 and above (up to 25yrs). \nCome and join us to explore music through a range of instruments in a fun and creative way\, there are two locations – Horsham & Worthing. \nHorsham Music Centre – Saturdays 12.30 – 13.30\nMillais School\, Depot Road\, Horsham RH13 5HR \n\nSaturday 8 November\nSaturday 15 November\nSaturday 22 November\nSaturday 29 November
URL:https://www.westsussexmusic.co.uk/event/orchestras-inc-autumn-term/2025-11-15/
LOCATION:Horsham Music Centre\, Millais School\, Depot Road\, Horsham\, RH13 5HR
ATTACH;FMTTYPE=image/jpeg:https://www.westsussexmusic.co.uk/wp-content/uploads/2025/02/Orchestras-Inc-8-1.jpg
GEO:51.0639222;-0.3072098
X-APPLE-STRUCTURED-LOCATION;VALUE=URI;X-ADDRESS=Horsham Music Centre Millais School Depot Road Horsham RH13 5HR;X-APPLE-RADIUS=500;X-TITLE=Millais School\, Depot Road:geo:-0.3072098,51.0639222
END:VEVENT
BEGIN:VEVENT
DTSTART;TZID=Europe/London:20251108T123000
DTEND;TZID=Europe/London:20251108T133000
DTSTAMP:20260421T232838
CREATED:20250916T083550Z
LAST-MODIFIED:20250916T084709Z
UID:10000120-1762605000-1762608600@www.westsussexmusic.co.uk
SUMMARY:Workshop - Orchestras Inc. autumn term (Horsham)
DESCRIPTION:Orchestras Inc is our incredible SEND ensemble and is open to children and young people with additional needs\, including those attending special schools\, those at mainstream schools or colleges with additional needs and those who are home schooled. \nThe group is open to young people from anywhere with a parent or carer for support. No previous experience required but activities are suited to young people in key stages 2 and above (up to 25yrs). \nCome and join us to explore music through a range of instruments in a fun and creative way\, there are two locations – Horsham & Worthing. \nHorsham Music Centre – Saturdays 12.30 – 13.30\nMillais School\, Depot Road\, Horsham RH13 5HR \n\nSaturday 8 November\nSaturday 15 November\nSaturday 22 November\nSaturday 29 November
URL:https://www.westsussexmusic.co.uk/event/orchestras-inc-autumn-term/2025-11-08/
LOCATION:Horsham Music Centre\, Millais School\, Depot Road\, Horsham\, RH13 5HR
ATTACH;FMTTYPE=image/jpeg:https://www.westsussexmusic.co.uk/wp-content/uploads/2025/02/Orchestras-Inc-8-1.jpg
GEO:51.0639222;-0.3072098
X-APPLE-STRUCTURED-LOCATION;VALUE=URI;X-ADDRESS=Horsham Music Centre Millais School Depot Road Horsham RH13 5HR;X-APPLE-RADIUS=500;X-TITLE=Millais School\, Depot Road:geo:-0.3072098,51.0639222
END:VEVENT
END:VCALENDAR