BEGIN:VCALENDAR
VERSION:2.0
PRODID:-//West Sussex Music - ECPv6.15.20//NONSGML v1.0//EN
CALSCALE:GREGORIAN
METHOD:PUBLISH
X-ORIGINAL-URL:https://www.westsussexmusic.co.uk
X-WR-CALDESC:Events for West Sussex Music
REFRESH-INTERVAL;VALUE=DURATION:PT1H
X-Robots-Tag:noindex
X-PUBLISHED-TTL:PT1H
BEGIN:VTIMEZONE
TZID:Europe/London
BEGIN:DAYLIGHT
TZOFFSETFROM:+0000
TZOFFSETTO:+0100
TZNAME:BST
DTSTART:20250330T010000
END:DAYLIGHT
BEGIN:STANDARD
TZOFFSETFROM:+0100
TZOFFSETTO:+0000
TZNAME:GMT
DTSTART:20251026T010000
END:STANDARD
BEGIN:DAYLIGHT
TZOFFSETFROM:+0000
TZOFFSETTO:+0100
TZNAME:BST
DTSTART:20260329T010000
END:DAYLIGHT
BEGIN:STANDARD
TZOFFSETFROM:+0100
TZOFFSETTO:+0000
TZNAME:GMT
DTSTART:20261025T010000
END:STANDARD
BEGIN:DAYLIGHT
TZOFFSETFROM:+0000
TZOFFSETTO:+0100
TZNAME:BST
DTSTART:20270328T010000
END:DAYLIGHT
BEGIN:STANDARD
TZOFFSETFROM:+0100
TZOFFSETTO:+0000
TZNAME:GMT
DTSTART:20271031T010000
END:STANDARD
END:VTIMEZONE
BEGIN:VEVENT
DTSTART;TZID=Europe/London:20260321T140000
DTEND;TZID=Europe/London:20260321T154500
DTSTAMP:20260424T153752
CREATED:20251212T144050Z
LAST-MODIFIED:20260210T171132Z
UID:10000135-1774101600-1774107900@www.westsussexmusic.co.uk
SUMMARY:Concert - Royal Philharmonic Orchestra: Relaxed Performance
DESCRIPTION:Join musicians from the Royal Philharmonic Orchestra for a playful\, interactive introduction to orchestral music! \nImagine an orchestra concert that welcomes everyone – where fidgeting is fine\, chill-out spaces are ready\, and the musical joy knows no boundaries. The Royal Philharmonic Orchestra invites you to a musical afternoon designed to delight all families and friends. \nFeaturing orchestral musicians and our charismatic presenter performing a range of music in ways you’ve never imagined\, this event is specially designed for people who may find traditional concerts challenging to attend\, including adults and children with learning disabilities\, movement disorders\, sensory impairments\, autistic spectrum disorder\, dementia and other neurological conditions\, or those with young children or babies. \nThere will be opportunities to sing\, dance\, move about or just listen as preferred\, and ‘chill out’ spaces will be available for anyone needing some quiet time before re-entering the auditorium. At the end of the concert\, optional post-concert activities will invite you to try your hand at a range of musical activities\, led by the RPO musicians themselves. \nPresented in partnership between the Royal Philharmonic Orchestra and Creative Crawley.
URL:https://www.westsussexmusic.co.uk/event/concert-royal-philharmonic-orchestra-relaxed-performance/
LOCATION:The Charis Centre\, West Green Drive\, Crawley\, RH11 7EL
CATEGORIES:Concerts
ATTACH;FMTTYPE=image/webp:https://www.westsussexmusic.co.uk/wp-content/uploads/2025/12/800x450_RPO_Event.webp
GEO:51.1184435;-0.198198
X-APPLE-STRUCTURED-LOCATION;VALUE=URI;X-ADDRESS=The Charis Centre West Green Drive Crawley RH11 7EL;X-APPLE-RADIUS=500;X-TITLE=West Green Drive:geo:-0.198198,51.1184435
END:VEVENT
BEGIN:VEVENT
DTSTART;TZID=Europe/London:20260228T100000
DTEND;TZID=Europe/London:20260228T123000
DTSTAMP:20260424T153752
CREATED:20260107T163005Z
LAST-MODIFIED:20260218T092318Z
UID:10000138-1772272800-1772281800@www.westsussexmusic.co.uk
SUMMARY:Workshop - RPO Creative Workshop for SEND
DESCRIPTION:West Sussex Music is thrilled to offer a free creative music workshop where children and young people will have the opportunity to make music with members of the Royal Philharmonic Orchestra (RPO)! \nThis is open to all children and young people under 25 years old with special educational needs or disabilities (SEND)\, accompanied by their parent/carer\, for those attending special schools\, those at mainstream schools or colleges with additional needs\, and those who are home schooled. \nNo experience needed and all equipment provided. \nCome and join us for a morning of creativity\, music-making\, and fun!
URL:https://www.westsussexmusic.co.uk/event/rpo-creative-workshops-for-send/
LOCATION:Crawley Music Centre\, The Mill Primary Academy\, Ifield Drive\, Crawley\, RH11 0EL
CATEGORIES:Workshop
ATTACH;FMTTYPE=image/webp:https://www.westsussexmusic.co.uk/wp-content/uploads/2026/01/800x450_SEND.webp
END:VEVENT
BEGIN:VEVENT
DTSTART;TZID=Europe/London:20260221T113000
DTEND;TZID=Europe/London:20260221T133000
DTSTAMP:20260424T153752
CREATED:20250724T074508Z
LAST-MODIFIED:20260128T164941Z
UID:10000117-1771673400-1771680600@www.westsussexmusic.co.uk
SUMMARY:Concert - Royal Philharmonic Orchestra: Noisy Kids
DESCRIPTION:A musical adventure for the whole family with the Royal Philharmonic Orchestra. \nGet ready for an unforgettable journey into the magical world of music. Join the full might of the Royal Philharmonic Orchestra for a fun-filled\, interactive concert designed especially for young music lovers. \nLed by the energetic and entertaining Tim Steiner\, this exciting performance will have children clapping\, stomping\, and conducting along with the musicians. \nBursting with familiar tunes\, musical games and plenty of surprises\, it’s the perfect way to introduce kids to the joy of live music. \nDress up and join the fun! Whether your child dreams of being a superhero\, a princess\, an explorer\, or even a mischievous villain\, costumes are warmly encouraged!
URL:https://www.westsussexmusic.co.uk/event/royal-philharmonic-orchestra-noisy-kids/
LOCATION:The Hawth Theatre\, Hawth Avenue\, Crawley\, RH10 6YZ
CATEGORIES:Concerts
ATTACH;FMTTYPE=image/webp:https://www.westsussexmusic.co.uk/wp-content/uploads/2025/07/CrawleyNoisyKids-cleanversion1920x1080px-scaled.webp
GEO:51.1104846;-0.1742503
X-APPLE-STRUCTURED-LOCATION;VALUE=URI;X-ADDRESS=The Hawth Theatre Hawth Avenue Crawley RH10 6YZ;X-APPLE-RADIUS=500;X-TITLE=Hawth Avenue:geo:-0.1742503,51.1104846
END:VEVENT
BEGIN:VEVENT
DTSTART;TZID=Europe/London:20260214T100000
DTEND;TZID=Europe/London:20260214T123000
DTSTAMP:20260424T153752
CREATED:20260107T162841Z
LAST-MODIFIED:20260212T131007Z
UID:10000137-1771063200-1771072200@www.westsussexmusic.co.uk
SUMMARY:Workshop - RPO Creative Workshop for KS2 (years 3-6)
DESCRIPTION:The Royal Philharmonic Orchestra is a professional orchestra that performs regularly at The Hawth in Crawley and is working in partnership with West Sussex Music to offer this free music workshop. \nYou are warmly welcome to this creative music workshop\, which runs from 10am to 12.30pm\, for locally based children in key stage 2 (Year 3 to Year 6) who are interested in making music together. \nAny standard of player is welcome. Any instrument is welcome. No previous experience is required! \nIt’s about being creative\, making music\, having fun\, and playing with some of the RPO’s professional musicians. \n 
URL:https://www.westsussexmusic.co.uk/event/rpo-creative-workshops-for-ks2-years-4-6/
LOCATION:The Mill Primary Academy\, Ifield Drive\, Ifield\, Crawley\, RH11 0EL
CATEGORIES:Workshop
ATTACH;FMTTYPE=image/webp:https://www.westsussexmusic.co.uk/wp-content/uploads/2026/01/800x450_KS2.webp
GEO:51.1165677;-0.2154163
X-APPLE-STRUCTURED-LOCATION;VALUE=URI;X-ADDRESS=The Mill Primary Academy Ifield Drive Ifield Crawley RH11 0EL;X-APPLE-RADIUS=500;X-TITLE=Ifield Drive:geo:-0.2154163,51.1165677
END:VEVENT
END:VCALENDAR